BEGIN:VCALENDAR
VERSION:2.0
PRODID:-//Onancock - ECPv6.15.20//NONSGML v1.0//EN
CALSCALE:GREGORIAN
METHOD:PUBLISH
X-WR-CALNAME:Onancock
X-ORIGINAL-URL:https://onancock.com
X-WR-CALDESC:Events for Onancock
REFRESH-INTERVAL;VALUE=DURATION:PT1H
X-Robots-Tag:noindex
X-PUBLISHED-TTL:PT1H
BEGIN:VTIMEZONE
TZID:America/New_York
BEGIN:DAYLIGHT
TZOFFSETFROM:-0500
TZOFFSETTO:-0400
TZNAME:EDT
DTSTART:20170312T070000
END:DAYLIGHT
BEGIN:STANDARD
TZOFFSETFROM:-0400
TZOFFSETTO:-0500
TZNAME:EST
DTSTART:20171105T060000
END:STANDARD
BEGIN:DAYLIGHT
TZOFFSETFROM:-0500
TZOFFSETTO:-0400
TZNAME:EDT
DTSTART:20180311T070000
END:DAYLIGHT
BEGIN:STANDARD
TZOFFSETFROM:-0400
TZOFFSETTO:-0500
TZNAME:EST
DTSTART:20181104T060000
END:STANDARD
BEGIN:DAYLIGHT
TZOFFSETFROM:-0500
TZOFFSETTO:-0400
TZNAME:EDT
DTSTART:20190310T070000
END:DAYLIGHT
BEGIN:STANDARD
TZOFFSETFROM:-0400
TZOFFSETTO:-0500
TZNAME:EST
DTSTART:20191103T060000
END:STANDARD
BEGIN:DAYLIGHT
TZOFFSETFROM:-0500
TZOFFSETTO:-0400
TZNAME:EDT
DTSTART:20200308T070000
END:DAYLIGHT
BEGIN:STANDARD
TZOFFSETFROM:-0400
TZOFFSETTO:-0500
TZNAME:EST
DTSTART:20201101T060000
END:STANDARD
END:VTIMEZONE
BEGIN:VEVENT
DTSTART;TZID=America/New_York:20190319T173000
DTEND;TZID=America/New_York:20190319T173000
DTSTAMP:20260419T101623
CREATED:20251230T153755Z
LAST-MODIFIED:20251230T153755Z
UID:10002429-1553016600-1553016600@onancock.com
SUMMARY:Planning Commission Meeting
DESCRIPTION:
URL:https://onancock.com/calendar/planning-commission-meeting-3/
CATEGORIES:Planning Commission
END:VEVENT
BEGIN:VEVENT
DTSTART;TZID=America/New_York:20190319T173000
DTEND;TZID=America/New_York:20190319T173000
DTSTAMP:20260419T101623
CREATED:20251230T153755Z
LAST-MODIFIED:20251230T153755Z
UID:10002430-1553016600-1553016600@onancock.com
SUMMARY:Planning Commission Meeting-4
DESCRIPTION:No meeting
URL:https://onancock.com/calendar/planning-commission-meeting-4/
CATEGORIES:Planning Commission
END:VEVENT
BEGIN:VEVENT
DTSTART;TZID=America/New_York:20190312T173000
DTEND;TZID=America/New_York:20190312T173000
DTSTAMP:20260419T101623
CREATED:20251230T153753Z
LAST-MODIFIED:20251230T153753Z
UID:10002474-1552411800-1552411800@onancock.com
SUMMARY:Waterfront Committee Meeting
DESCRIPTION:
URL:https://onancock.com/calendar/waterfront-committee-meeting-2/
CATEGORIES:Waterfront Committee
END:VEVENT
BEGIN:VEVENT
DTSTART;TZID=America/New_York:20190311T063000
DTEND;TZID=America/New_York:20190311T063000
DTSTAMP:20260419T101623
CREATED:20251230T153753Z
LAST-MODIFIED:20251230T153753Z
UID:10003298-1552285800-1552285800@onancock.com
SUMMARY:Town Council Budget Work Session Meeting
DESCRIPTION:Meeting Notice \nTown Council Budget Session Meeting \nMarch 11\, 2019 \nAt 6:30 p.m. \nThe Onancock Town Council will hold a budget workshop meeting at 6:30 p.m. March 11\, 2019. The meeting will be held in the Town Hall Council Chambers at 15 North Street\, Onancock\, VA 23417.
URL:https://onancock.com/calendar/town-council-budget-work-session-meeting/
CATEGORIES:Town Council
END:VEVENT
BEGIN:VEVENT
DTSTART;TZID=America/New_York:20190225T190000
DTEND;TZID=America/New_York:20190225T190000
DTSTAMP:20260419T101623
CREATED:20251230T153754Z
LAST-MODIFIED:20251230T153754Z
UID:10002371-1551121200-1551121200@onancock.com
SUMMARY:Town Council Meeting-30
DESCRIPTION:Meeting Notice \nTown Council Meeting \nFebruary 25\, 2019 \nAt 7:00 p.m. \nThe Onancock Town Council will hold a meeting at 7:00 p.m. February 25\, 2019. The meeting will be held in the Town Hall Council Chambers at 15 North Street\, Onancock\, VA 23417.
URL:https://onancock.com/calendar/town-council-meeting-30/
CATEGORIES:Town Council
END:VEVENT
BEGIN:VEVENT
DTSTART;TZID=America/New_York:20190219T173000
DTEND;TZID=America/New_York:20190219T173000
DTSTAMP:20260419T101623
CREATED:20251230T153754Z
LAST-MODIFIED:20251230T153754Z
UID:10002339-1550597400-1550597400@onancock.com
SUMMARY:Planning Commission Meeting
DESCRIPTION:
URL:https://onancock.com/calendar/planning-commission-meeting-2/
CATEGORIES:Planning Commission
END:VEVENT
BEGIN:VEVENT
DTSTART;TZID=America/New_York:20190219T173000
DTEND;TZID=America/New_York:20190219T173000
DTSTAMP:20260419T101623
CREATED:20251230T153754Z
LAST-MODIFIED:20251230T153754Z
UID:10002778-1550597400-1550597400@onancock.com
SUMMARY:Clone of Planning Commission- CANCELLED
DESCRIPTION:
URL:https://onancock.com/calendar/__trashed-2__trashed/
CATEGORIES:Planning Commission
END:VEVENT
BEGIN:VEVENT
DTSTART;TZID=America/New_York:20190212T173000
DTEND;TZID=America/New_York:20190212T173000
DTSTAMP:20260419T101623
CREATED:20251230T153752Z
LAST-MODIFIED:20251230T153752Z
UID:10002473-1549992600-1549992600@onancock.com
SUMMARY:Waterfront Committee Meeting
DESCRIPTION:
URL:https://onancock.com/calendar/waterfront-committee-meeting-1/
CATEGORIES:Waterfront Committee
END:VEVENT
BEGIN:VEVENT
DTSTART;TZID=America/New_York:20190128T190000
DTEND;TZID=America/New_York:20190128T190000
DTSTAMP:20260419T101623
CREATED:20251230T153753Z
LAST-MODIFIED:20251230T153753Z
UID:10002370-1548702000-1548702000@onancock.com
SUMMARY:Town Council Meeting-29
DESCRIPTION:Meeting Notice \nTown Council Meeting \nJanuary 28\, 2019 \nAt 7:00 p.m. \nThe Onancock Town Council will hold a meeting at 7:00 p.m. January 28\, 2019. The meeting will be held in the Town Hall Council Chambers at 15 North Street\, Onancock\, VA 23417.
URL:https://onancock.com/calendar/town-council-meeting-29/
CATEGORIES:Town Council
END:VEVENT
BEGIN:VEVENT
DTSTART;TZID=America/New_York:20190122T173000
DTEND;TZID=America/New_York:20190122T173000
DTSTAMP:20260419T101623
CREATED:20251230T153753Z
LAST-MODIFIED:20251230T153753Z
UID:10002588-1548178200-1548178200@onancock.com
SUMMARY:Planning Commission Meeting - Cancelled
DESCRIPTION:
URL:https://onancock.com/calendar/planning-commission-meeting-cancelled/
CATEGORIES:Planning Commission
END:VEVENT
BEGIN:VEVENT
DTSTART;TZID=America/New_York:20190114T183000
DTEND;TZID=America/New_York:20190114T183000
DTSTAMP:20260419T101623
CREATED:20251230T153753Z
LAST-MODIFIED:20251230T153753Z
UID:10002864-1547490600-1547490600@onancock.com
SUMMARY:Town Council Meeting - Work Session
DESCRIPTION:Meeting Notice \nTown Council Work Session Meeting \nJanuary 14\, 2019 \nAt 6:30 p.m. \nThe Onancock Town Council will hold a work session meeting at 6:30 p.m. January 14\, 2019. The meeting will be held in the Town Hall Council Chambers at 15 North Street\, Onancock\, VA 23417.
URL:https://onancock.com/calendar/town-council-meeting-work-session/
CATEGORIES:Town Council
END:VEVENT
BEGIN:VEVENT
DTSTART;TZID=America/New_York:20190108T173000
DTEND;TZID=America/New_York:20190108T173000
DTSTAMP:20260419T101623
CREATED:20251230T153751Z
LAST-MODIFIED:20251230T153751Z
UID:10002586-1546968600-1546968600@onancock.com
SUMMARY:Waterfront Committee Meeting-CANCELLED
DESCRIPTION:
URL:https://onancock.com/calendar/waterfront-committee-meeting-cancelled/
CATEGORIES:Waterfront Committee
END:VEVENT
BEGIN:VEVENT
DTSTART;TZID=America/New_York:20181218T190000
DTEND;TZID=America/New_York:20181218T190000
DTSTAMP:20260419T101623
CREATED:20251230T153751Z
LAST-MODIFIED:20251230T153751Z
UID:10002702-1545159600-1545159600@onancock.com
SUMMARY:Town Council - CANCELLED
DESCRIPTION:Town Hall\n15 North Street\nOnancock 23417\nSee map: Google Maps
URL:https://onancock.com/calendar/town-council-cancelled-0/
CATEGORIES:Town Council
END:VEVENT
BEGIN:VEVENT
DTSTART;TZID=America/New_York:20181218T173000
DTEND;TZID=America/New_York:20181218T173000
DTSTAMP:20260419T101623
CREATED:20251230T153751Z
LAST-MODIFIED:20251230T153751Z
UID:10002709-1545154200-1545154200@onancock.com
SUMMARY:Planning Commission
DESCRIPTION:
URL:https://onancock.com/calendar/planning-commission-6/
CATEGORIES:Planning Commission
END:VEVENT
BEGIN:VEVENT
DTSTART;TZID=America/New_York:20181217T190000
DTEND;TZID=America/New_York:20181217T190000
DTSTAMP:20260419T101623
CREATED:20251230T153751Z
LAST-MODIFIED:20251230T153751Z
UID:10002766-1545073200-1545073200@onancock.com
SUMMARY:Town Council
DESCRIPTION:
URL:https://onancock.com/calendar/town-council-13/
CATEGORIES:Town Council
END:VEVENT
BEGIN:VEVENT
DTSTART;TZID=America/New_York:20181126T190000
DTEND;TZID=America/New_York:20181126T190000
DTSTAMP:20260419T101623
CREATED:20251230T153752Z
LAST-MODIFIED:20251230T153752Z
UID:10002767-1543258800-1543258800@onancock.com
SUMMARY:Town Council
DESCRIPTION:Meeting Notice\nTown Council Meeting\nNovember 26\, 2018\nAt 7:00 p.m. \nThe Onancock Town Council will hold a meeting at 7:00 p.m. November 26\, 2018. The meeting will be held in the Town Hall Council Chambers at 15 North Street\, Onancock\, VA 23417.
URL:https://onancock.com/calendar/town-council-14/
CATEGORIES:Town Council
END:VEVENT
BEGIN:VEVENT
DTSTART;TZID=America/New_York:20181120T173000
DTEND;TZID=America/New_York:20181120T173000
DTSTAMP:20260419T101623
CREATED:20251230T153750Z
LAST-MODIFIED:20251230T153750Z
UID:10002714-1542735000-1542735000@onancock.com
SUMMARY:Planning Commission - Cancelled
DESCRIPTION:
URL:https://onancock.com/calendar/planning-commission-cancelled-5/
CATEGORIES:Planning Commission
END:VEVENT
BEGIN:VEVENT
DTSTART;TZID=America/New_York:20181113T183000
DTEND;TZID=America/New_York:20181113T183000
DTSTAMP:20260419T101623
CREATED:20251230T153750Z
LAST-MODIFIED:20251230T153750Z
UID:10000033-1542133800-1542133800@onancock.com
SUMMARY:Town Council Work Session
DESCRIPTION:Meeting Notice\nTown Council Work Session Meeting\nNovember 13\, 2018\nAt 6:30 p.m. \nThe Onancock Town Council will hold a work session meeting at 6:30 p.m. November 13\, 2018. The meeting will be held in the Town Hall Council Chambers at 15 North Street\, Onancock\, VA 23417.
URL:https://onancock.com/calendar/town-council-work-session/
CATEGORIES:Town Council
END:VEVENT
BEGIN:VEVENT
DTSTART;TZID=America/New_York:20181113T173000
DTEND;TZID=America/New_York:20181113T173000
DTSTAMP:20260419T101623
CREATED:20251230T153750Z
LAST-MODIFIED:20251230T153750Z
UID:10002859-1542130200-1542130200@onancock.com
SUMMARY:Waterfront Committee
DESCRIPTION:Meeting Notice \nWaterfront Committee Meeting \nNovember 14\, 2018 \nAt 5:30 p.m. \nThe Onancock Waterfront Committee will hold a meeting at 5:30 p.m. November 14\, 2018. The meeting will be held in the Town Hall Council Chambers at 15 North Street\, Onancock\, VA 23417.
URL:https://onancock.com/calendar/waterfront-committee-22/
CATEGORIES:Boards & Commissions
END:VEVENT
BEGIN:VEVENT
DTSTART;TZID=America/New_York:20181107T063000
DTEND;TZID=America/New_York:20181107T063000
DTSTAMP:20260419T101623
CREATED:20251230T153751Z
LAST-MODIFIED:20251230T153751Z
UID:10002738-1541572200-1541572200@onancock.com
SUMMARY:Town Council Special Meeting
DESCRIPTION:The Onancock Town Council is holding a Special Meeting on Wednesday\, November 7\, 2018.
URL:https://onancock.com/calendar/town-council-special-meeting-0/
CATEGORIES:Town Council
END:VEVENT
BEGIN:VEVENT
DTSTART;TZID=America/New_York:20181023T173000
DTEND;TZID=America/New_York:20181023T173000
DTSTAMP:20260419T101623
CREATED:20251230T153749Z
LAST-MODIFIED:20251230T153749Z
UID:10002708-1540315800-1540315800@onancock.com
SUMMARY:Planning Commission
DESCRIPTION:
URL:https://onancock.com/calendar/planning-commission-5/
CATEGORIES:Planning Commission
END:VEVENT
BEGIN:VEVENT
DTSTART;TZID=America/New_York:20181022T190000
DTEND;TZID=America/New_York:20181022T190000
DTSTAMP:20260419T101623
CREATED:20251230T153749Z
LAST-MODIFIED:20251230T153749Z
UID:10002764-1540234800-1540234800@onancock.com
SUMMARY:Town Council
DESCRIPTION:
URL:https://onancock.com/calendar/town-council-11/
CATEGORIES:Town Council
END:VEVENT
BEGIN:VEVENT
DTSTART;TZID=America/New_York:20181015T180000
DTEND;TZID=America/New_York:20181015T180000
DTSTAMP:20260419T101623
CREATED:20251230T153750Z
LAST-MODIFIED:20251230T153750Z
UID:10002523-1539626400-1539626400@onancock.com
SUMMARY:Tree Board Meeting
DESCRIPTION:
URL:https://onancock.com/calendar/tree-board-meeting-0/
CATEGORIES:Tree Board
END:VEVENT
BEGIN:VEVENT
DTSTART;TZID=America/New_York:20180924T190000
DTEND;TZID=America/New_York:20180924T190000
DTSTAMP:20260419T101623
CREATED:20251230T153750Z
LAST-MODIFIED:20251230T153750Z
UID:10002763-1537815600-1537815600@onancock.com
SUMMARY:Town Council
DESCRIPTION:
URL:https://onancock.com/calendar/town-council-10/
CATEGORIES:Town Council
END:VEVENT
BEGIN:VEVENT
DTSTART;TZID=America/New_York:20180918T173000
DTEND;TZID=America/New_York:20180918T173000
DTSTAMP:20260419T101623
CREATED:20251230T153748Z
LAST-MODIFIED:20251230T153748Z
UID:10002711-1537291800-1537291800@onancock.com
SUMMARY:Planning Commission - Cancelled
DESCRIPTION:
URL:https://onancock.com/calendar/planning-commission-cancelled-2/
CATEGORIES:Planning Commission
END:VEVENT
BEGIN:VEVENT
DTSTART;TZID=America/New_York:20180912T180000
DTEND;TZID=America/New_York:20180912T180000
DTSTAMP:20260419T101623
CREATED:20251230T153748Z
LAST-MODIFIED:20251230T153748Z
UID:10002820-1536775200-1536775200@onancock.com
SUMMARY:Onancock Tree Board Meeting
DESCRIPTION:Meeting Notice \nTree Board Meeting \nSeptember 12\, 2018 \nAt 6:00 p.m. \nThe Onancock Tree Board will hold a meeting at 6:00 p.m. September 12\, 2018. The meeting will be held in the Town Hall Council Chambers at 15 North Street\, Onancock\, VA 23417.
URL:https://onancock.com/calendar/onancock-tree-board-meeting-0/
CATEGORIES:Tree Board
END:VEVENT
BEGIN:VEVENT
DTSTART;TZID=America/New_York:20180911T173000
DTEND;TZID=America/New_York:20180911T173000
DTSTAMP:20260419T101623
CREATED:20251230T153748Z
LAST-MODIFIED:20251230T153748Z
UID:10002789-1536687000-1536687000@onancock.com
SUMMARY:Onancock Waterfront Committee Meeting
DESCRIPTION:Meeting Notice\nWaterfront Committee Meeting\nSeptember 11\, 2018\nAt 5:30 p.m.\nThe Onancock Waterfront Committee will hold a meeting at 5:30 p.m. September 11\, 2018.  The meeting will be held in the Town Hall Council Chambers at 15 North Street\, Onancock\, VA  23417.
URL:https://onancock.com/calendar/onancock-waterfront-committee-meeting-0/
CATEGORIES:Waterfront Committee
END:VEVENT
BEGIN:VEVENT
DTSTART;TZID=America/New_York:20180910T180000
DTEND;TZID=America/New_York:20180910T180000
DTSTAMP:20260419T101623
CREATED:20251230T153749Z
LAST-MODIFIED:20251230T153749Z
UID:10002822-1536602400-1536602400@onancock.com
SUMMARY:Onancock Town Council Work Session
DESCRIPTION:Meeting Notice \nTown Council Work Session \nSeptember 10\, 2018 \nAt 6:00 p.m. \nThe Onancock Town Council will hold a work session meeting at 6:00 p.m. September 10\, 2018. The meeting will be held in the Town Hall Council Chambers at 15 North Street\, Onancock\, VA 23417.
URL:https://onancock.com/calendar/onancock-town-council-work-session/
CATEGORIES:Town Council
END:VEVENT
BEGIN:VEVENT
DTSTART;TZID=America/New_York:20180827T190000
DTEND;TZID=America/New_York:20180827T190000
DTSTAMP:20260419T101623
CREATED:20251230T153749Z
LAST-MODIFIED:20251230T153749Z
UID:10002762-1535396400-1535396400@onancock.com
SUMMARY:Town Council
DESCRIPTION:
URL:https://onancock.com/calendar/town-council-9/
CATEGORIES:Town Council
END:VEVENT
BEGIN:VEVENT
DTSTART;TZID=America/New_York:20180821T173000
DTEND;TZID=America/New_York:20180821T183000
DTSTAMP:20260419T101623
CREATED:20251230T153749Z
LAST-MODIFIED:20251230T153749Z
UID:10003693-1534872600-1534876200@onancock.com
SUMMARY:Planning Commission
DESCRIPTION:
URL:https://onancock.com/calendar/planning-commission-10/
CATEGORIES:Planning Commission
END:VEVENT
END:VCALENDAR