BEGIN:VCALENDAR
VERSION:2.0
PRODID:-//Onancock - ECPv6.15.20//NONSGML v1.0//EN
CALSCALE:GREGORIAN
METHOD:PUBLISH
X-ORIGINAL-URL:https://onancock.com
X-WR-CALDESC:Events for Onancock
REFRESH-INTERVAL;VALUE=DURATION:PT1H
X-Robots-Tag:noindex
X-PUBLISHED-TTL:PT1H
BEGIN:VTIMEZONE
TZID:America/New_York
BEGIN:DAYLIGHT
TZOFFSETFROM:-0500
TZOFFSETTO:-0400
TZNAME:EDT
DTSTART:20160313T070000
END:DAYLIGHT
BEGIN:STANDARD
TZOFFSETFROM:-0400
TZOFFSETTO:-0500
TZNAME:EST
DTSTART:20161106T060000
END:STANDARD
BEGIN:DAYLIGHT
TZOFFSETFROM:-0500
TZOFFSETTO:-0400
TZNAME:EDT
DTSTART:20170312T070000
END:DAYLIGHT
BEGIN:STANDARD
TZOFFSETFROM:-0400
TZOFFSETTO:-0500
TZNAME:EST
DTSTART:20171105T060000
END:STANDARD
BEGIN:DAYLIGHT
TZOFFSETFROM:-0500
TZOFFSETTO:-0400
TZNAME:EDT
DTSTART:20180311T070000
END:DAYLIGHT
BEGIN:STANDARD
TZOFFSETFROM:-0400
TZOFFSETTO:-0500
TZNAME:EST
DTSTART:20181104T060000
END:STANDARD
BEGIN:DAYLIGHT
TZOFFSETFROM:-0500
TZOFFSETTO:-0400
TZNAME:EDT
DTSTART:20190310T070000
END:DAYLIGHT
BEGIN:STANDARD
TZOFFSETFROM:-0400
TZOFFSETTO:-0500
TZNAME:EST
DTSTART:20191103T060000
END:STANDARD
END:VTIMEZONE
BEGIN:VEVENT
DTSTART;TZID=America/New_York:20180122T190000
DTEND;TZID=America/New_York:20180122T190000
DTSTAMP:20260419T114552
CREATED:20251230T153747Z
LAST-MODIFIED:20251230T153747Z
UID:10002756-1516647600-1516647600@onancock.com
SUMMARY:Town Council
DESCRIPTION:
URL:https://onancock.com/calendar/town-council-3/
CATEGORIES:Town Council
END:VEVENT
BEGIN:VEVENT
DTSTART;TZID=America/New_York:20180116T173000
DTEND;TZID=America/New_York:20180116T173000
DTSTAMP:20260419T114552
CREATED:20251230T153747Z
LAST-MODIFIED:20251230T153747Z
UID:10002706-1516123800-1516123800@onancock.com
SUMMARY:Planning Commission
DESCRIPTION:
URL:https://onancock.com/calendar/planning-commission-3/
CATEGORIES:Planning Commission
END:VEVENT
BEGIN:VEVENT
DTSTART;TZID=America/New_York:20180105T183900
DTEND;TZID=America/New_York:20180105T183900
DTSTAMP:20260419T114552
CREATED:20251230T153747Z
LAST-MODIFIED:20251230T153747Z
UID:10002338-1515177540-1515177540@onancock.com
SUMMARY:Planning Commission Meeting
DESCRIPTION:
URL:https://onancock.com/calendar/planning-commission-meeting-1/
CATEGORIES:Planning Commission
END:VEVENT
BEGIN:VEVENT
DTSTART;TZID=America/New_York:20171219T180000
DTEND;TZID=America/New_York:20171219T180000
DTSTAMP:20260419T114552
CREATED:20251230T153747Z
LAST-MODIFIED:20251230T153747Z
UID:10002749-1513706400-1513706400@onancock.com
SUMMARY:Onancock Town Council Special Meeting Notice
DESCRIPTION:
URL:https://onancock.com/calendar/onancock-town-council-special-meeting-notice/
CATEGORIES:Town Council
END:VEVENT
BEGIN:VEVENT
DTSTART;TZID=America/New_York:20171219T173000
DTEND;TZID=America/New_York:20171219T173000
DTSTAMP:20260419T114552
CREATED:20251230T153747Z
LAST-MODIFIED:20251230T153747Z
UID:10002602-1513704600-1513704600@onancock.com
SUMMARY:Planning Commission - Cancelled
DESCRIPTION:Directions\nTown Hall\n15 North Street\nOnancock 23417\nSee map: Google Maps
URL:https://onancock.com/calendar/planning-commission-cancelled-0/
CATEGORIES:Planning Commission
END:VEVENT
BEGIN:VEVENT
DTSTART;VALUE=DATE:20171218
DTEND;VALUE=DATE:20171219
DTSTAMP:20260419T114552
CREATED:20251230T153747Z
LAST-MODIFIED:20251230T153747Z
UID:10003695-1513555200-1513641599@onancock.com
SUMMARY:Town Council - CANCELLED
DESCRIPTION:
URL:https://onancock.com/calendar/town-council-cancelled-2/
CATEGORIES:Town Council
END:VEVENT
BEGIN:VEVENT
DTSTART;TZID=America/New_York:20171212T173000
DTEND;TZID=America/New_York:20171212T173000
DTSTAMP:20260419T114552
CREATED:20251230T153747Z
LAST-MODIFIED:20251230T153747Z
UID:10002717-1513099800-1513099800@onancock.com
SUMMARY:Waterfront Committee
DESCRIPTION:Town Hall\n15 North Street\nOnancock 23417\nSee map: Google Maps
URL:https://onancock.com/calendar/waterfront-committee-1/
CATEGORIES:Waterfront Committee
END:VEVENT
BEGIN:VEVENT
DTSTART;TZID=America/New_York:20171127T190000
DTEND;TZID=America/New_York:20171127T190000
DTSTAMP:20260419T114552
CREATED:20251230T153745Z
LAST-MODIFIED:20251230T153745Z
UID:10002755-1511809200-1511809200@onancock.com
SUMMARY:Town Council
DESCRIPTION:Town Hall\n15 North Street\nOnancock 23417\nSee map: Google Maps
URL:https://onancock.com/calendar/town-council-2/
CATEGORIES:Town Council
END:VEVENT
BEGIN:VEVENT
DTSTART;TZID=America/New_York:20171114T173000
DTEND;TZID=America/New_York:20171114T173000
DTSTAMP:20260419T114552
CREATED:20251230T153745Z
LAST-MODIFIED:20251230T153745Z
UID:10002601-1510680600-1510680600@onancock.com
SUMMARY:Planning Commission - Cancelled
DESCRIPTION:Town Hall\n15 North Street\nOnancock 23417\nSee map: Google Maps
URL:https://onancock.com/calendar/planning-commission-cancelled/
CATEGORIES:Planning Commission
END:VEVENT
BEGIN:VEVENT
DTSTART;TZID=America/New_York:20171114T173000
DTEND;TZID=America/New_York:20171114T173000
DTSTAMP:20260419T114552
CREATED:20251230T153745Z
LAST-MODIFIED:20251230T153745Z
UID:10002719-1510680600-1510680600@onancock.com
SUMMARY:Waterfront Committee - CANCELLED
DESCRIPTION:Town Hall\n15 North Street\nOnancock 23417\nSee map: Google Maps
URL:https://onancock.com/calendar/waterfront-committee-cancelled-0/
CATEGORIES:Waterfront Committee
END:VEVENT
BEGIN:VEVENT
DTSTART;TZID=America/New_York:20171023T190000
DTEND;TZID=America/New_York:20171023T190000
DTSTAMP:20260419T114552
CREATED:20251230T153745Z
LAST-MODIFIED:20251230T153745Z
UID:10002701-1508785200-1508785200@onancock.com
SUMMARY:Town Council - CANCELLED
DESCRIPTION:The Onancock Town Council Meeting has been cancelled for October 2017. \nTown Hall\n15 North Street\nOnancock 23417\nSee map: Google Maps
URL:https://onancock.com/calendar/town-council-cancelled/
CATEGORIES:Town Council
END:VEVENT
BEGIN:VEVENT
DTSTART;TZID=America/New_York:20171017T000000
DTEND;TZID=America/New_York:20171017T235900
DTSTAMP:20260419T114552
CREATED:20251230T153745Z
LAST-MODIFIED:20251230T153745Z
UID:10003696-1508198400-1508284740@onancock.com
SUMMARY:Planning Commission
DESCRIPTION:
URL:https://onancock.com/calendar/planning-commission-15/
CATEGORIES:Planning Commission
END:VEVENT
BEGIN:VEVENT
DTSTART;TZID=America/New_York:20171011T180000
DTEND;TZID=America/New_York:20171011T180000
DTSTAMP:20260419T114552
CREATED:20251230T153746Z
LAST-MODIFIED:20251230T153746Z
UID:10002737-1507744800-1507744800@onancock.com
SUMMARY:Town Council Special Meeting
DESCRIPTION:This meeting will be held in the Town Manager’s Office at 15 North Street\, Onancock\, VA 23417
URL:https://onancock.com/calendar/town-council-special-meeting/
CATEGORIES:Town Council
END:VEVENT
BEGIN:VEVENT
DTSTART;TZID=America/New_York:20171011T180000
DTEND;TZID=America/New_York:20171011T180000
DTSTAMP:20260419T114552
CREATED:20251230T153746Z
LAST-MODIFIED:20251230T153746Z
UID:10002522-1507744800-1507744800@onancock.com
SUMMARY:Tree Board
DESCRIPTION:
URL:https://onancock.com/calendar/tree-board/
CATEGORIES:Tree Board
END:VEVENT
BEGIN:VEVENT
DTSTART;TZID=America/New_York:20171010T173000
DTEND;TZID=America/New_York:20171010T173000
DTSTAMP:20260419T114552
CREATED:20251230T153746Z
LAST-MODIFIED:20251230T153746Z
UID:10002718-1507656600-1507656600@onancock.com
SUMMARY:Waterfront Committee - CANCELLED
DESCRIPTION:Town Hall\n15 North Street\nOnancock 23417\nSee map: Google Maps
URL:https://onancock.com/calendar/waterfront-committee-cancelled/
CATEGORIES:Waterfront Committee
END:VEVENT
BEGIN:VEVENT
DTSTART;TZID=America/New_York:20171002T190000
DTEND;TZID=America/New_York:20171002T190000
DTSTAMP:20260419T114552
CREATED:20251230T153746Z
LAST-MODIFIED:20251230T153746Z
UID:10002735-1506970800-1506970800@onancock.com
SUMMARY:Onancock Town Council Special Meeting
DESCRIPTION:By order of Mayor Russell Jones a Special Town Council meeting has been called on June 12\, 2018 @ 6:30 PM in the Town Council Chambers located at 15 North Street\, Onancock\, VA.
URL:https://onancock.com/calendar/onancock-town-council-special-meeting-0/
CATEGORIES:Town Council
END:VEVENT
BEGIN:VEVENT
DTSTART;TZID=America/New_York:20171002T190000
DTEND;TZID=America/New_York:20171002T190000
DTSTAMP:20260419T114552
CREATED:20251230T153746Z
LAST-MODIFIED:20251230T153746Z
UID:10002734-1506970800-1506970800@onancock.com
SUMMARY:Onancock Town Council Special Meeting
DESCRIPTION:
URL:https://onancock.com/calendar/onancock-town-council-special-meeting/
CATEGORIES:Town Council
END:VEVENT
BEGIN:VEVENT
DTSTART;TZID=America/New_York:20170925T190000
DTEND;TZID=America/New_York:20170925T190000
DTSTAMP:20260419T114552
CREATED:20251230T153746Z
LAST-MODIFIED:20251230T153746Z
UID:10002754-1506366000-1506366000@onancock.com
SUMMARY:Town Council
DESCRIPTION:Town Hall\n15 North Street\nOnancock 23417\nSee map: Google Maps
URL:https://onancock.com/calendar/town-council-1/
CATEGORIES:Town Council
END:VEVENT
BEGIN:VEVENT
DTSTART;TZID=America/New_York:20170919T173000
DTEND;TZID=America/New_York:20170919T173000
DTSTAMP:20260419T114552
CREATED:20251230T153746Z
LAST-MODIFIED:20251230T153746Z
UID:10002705-1505842200-1505842200@onancock.com
SUMMARY:Planning Commission
DESCRIPTION:Town Hall\n15 North Street\nOnancock 23417\nSee map: Google Maps
URL:https://onancock.com/calendar/planning-commission-2/
CATEGORIES:Planning Commission
END:VEVENT
BEGIN:VEVENT
DTSTART;TZID=America/New_York:20170919T173000
DTEND;TZID=America/New_York:20170919T173000
DTSTAMP:20260419T114552
CREATED:20251230T153744Z
LAST-MODIFIED:20251230T153744Z
UID:10002704-1505842200-1505842200@onancock.com
SUMMARY:Planning Commission
DESCRIPTION:Town Hall\n15 North Street\nOnancock 23417\nSee map: Google Maps
URL:https://onancock.com/calendar/planning-commission-1/
CATEGORIES:Planning Commission
END:VEVENT
BEGIN:VEVENT
DTSTART;TZID=America/New_York:20170917T173000
DTEND;TZID=America/New_York:20170917T183000
DTSTAMP:20260419T114552
CREATED:20251230T153744Z
LAST-MODIFIED:20251230T153744Z
UID:10003692-1505669400-1505673000@onancock.com
SUMMARY:Planning Commission Meeting-COMPREHENSIVE PLAN WORKSHOP at the Historic Onancock School
DESCRIPTION:
URL:https://onancock.com/calendar/planning-commission-meeting-comprehensive-plan-workshop-at-the-historic-onancock-school/
CATEGORIES:Planning Commission
END:VEVENT
BEGIN:VEVENT
DTSTART;TZID=America/New_York:20170912T173000
DTEND;TZID=America/New_York:20170912T173000
DTSTAMP:20260419T114552
CREATED:20251230T153744Z
LAST-MODIFIED:20251230T153744Z
UID:10002716-1505237400-1505237400@onancock.com
SUMMARY:Waterfront Committee
DESCRIPTION:Town Hall\n15 North Street\nOnancock 23417\nSee map: Google Maps
URL:https://onancock.com/calendar/waterfront-committee-0/
CATEGORIES:Waterfront Committee
END:VEVENT
BEGIN:VEVENT
DTSTART;TZID=America/New_York:20170828T190000
DTEND;TZID=America/New_York:20170828T190000
DTSTAMP:20260419T114552
CREATED:20251230T153744Z
LAST-MODIFIED:20251230T153744Z
UID:10002753-1503946800-1503946800@onancock.com
SUMMARY:Town Council
DESCRIPTION:Town Hall\n15 North Street\nOnancock 23417\nSee map: Google Maps
URL:https://onancock.com/calendar/town-council-0/
CATEGORIES:Town Council
END:VEVENT
BEGIN:VEVENT
DTSTART;TZID=America/New_York:20170815T173000
DTEND;TZID=America/New_York:20170815T173000
DTSTAMP:20260419T114552
CREATED:20251230T153744Z
LAST-MODIFIED:20251230T153744Z
UID:10002703-1502818200-1502818200@onancock.com
SUMMARY:Planning Commission
DESCRIPTION:Town Hall\n15 North Street\nOnancock 23417\nSee map: Google Maps
URL:https://onancock.com/calendar/planning-commission-0/
CATEGORIES:Planning Commission
END:VEVENT
BEGIN:VEVENT
DTSTART;TZID=America/New_York:20170808T173000
DTEND;TZID=America/New_York:20170808T173000
DTSTAMP:20260419T114552
CREATED:20251230T153744Z
LAST-MODIFIED:20251230T153744Z
UID:10002715-1502213400-1502213400@onancock.com
SUMMARY:Waterfront Committee
DESCRIPTION:Town Hall\n15 North Street\nOnancock 23417\nSee map: Google Maps
URL:https://onancock.com/calendar/waterfront-committee/
CATEGORIES:Waterfront Committee
END:VEVENT
BEGIN:VEVENT
DTSTART;TZID=America/New_York:20170724T190000
DTEND;TZID=America/New_York:20170724T190000
DTSTAMP:20260419T114552
CREATED:20251230T153745Z
LAST-MODIFIED:20251230T153745Z
UID:10002752-1500922800-1500922800@onancock.com
SUMMARY:Town Council
DESCRIPTION:Town Hall\n15 North Street\nOnancock 23417\nSee map: Google Maps
URL:https://onancock.com/calendar/town-council/
CATEGORIES:Town Council
END:VEVENT
BEGIN:VEVENT
DTSTART;TZID=America/New_York:20170718T173000
DTEND;TZID=America/New_York:20170718T173000
DTSTAMP:20260419T114552
CREATED:20251230T153745Z
LAST-MODIFIED:20251230T153745Z
UID:10002700-1500399000-1500399000@onancock.com
SUMMARY:Planning Commission
DESCRIPTION:Town Hall\n15 North Street\nOnancock 23417\nSee map: Google Maps
URL:https://onancock.com/calendar/planning-commission/
CATEGORIES:Planning Commission
END:VEVENT
BEGIN:VEVENT
DTSTART;TZID=America/New_York:20170626T190000
DTEND;TZID=America/New_York:20170626T190000
DTSTAMP:20260419T114552
CREATED:20251230T153745Z
LAST-MODIFIED:20251230T153745Z
UID:10002369-1498503600-1498503600@onancock.com
SUMMARY:Town Council Meeting-28
DESCRIPTION:Please be advised that the Town of Onancock’s Town Council will meet Monday\, June 26\, 2017 @ 7:00 PM in the Council Chambers located at 15 North Street\, Onancock\, VA 23417 \nTown Hall\n15 North Street\nOnancock 23417  \nSee map: Google Maps
URL:https://onancock.com/calendar/town-council-meeting-28/
CATEGORIES:Town Council
END:VEVENT
BEGIN:VEVENT
DTSTART;TZID=America/New_York:20170522T170000
DTEND;TZID=America/New_York:20170522T190000
DTSTAMP:20260419T114552
CREATED:20251230T153745Z
LAST-MODIFIED:20251230T153745Z
UID:10002353-1495472400-1495479600@onancock.com
SUMMARY:Town Council Meeting-12
DESCRIPTION:
URL:https://onancock.com/calendar/town-council-meeting-12/
CATEGORIES:Town Council
END:VEVENT
BEGIN:VEVENT
DTSTART;TZID=America/New_York:20170516T173000
DTEND;TZID=America/New_York:20170516T173000
DTSTAMP:20260419T114552
CREATED:20251230T153745Z
LAST-MODIFIED:20251230T153745Z
UID:10002337-1494955800-1494955800@onancock.com
SUMMARY:Planning Commission Meeting
DESCRIPTION:
URL:https://onancock.com/calendar/planning-commission-meeting/
CATEGORIES:Planning Commission
END:VEVENT
END:VCALENDAR