BEGIN:VCALENDAR
VERSION:2.0
PRODID:-//Onancock - ECPv6.15.20//NONSGML v1.0//EN
CALSCALE:GREGORIAN
METHOD:PUBLISH
X-ORIGINAL-URL:https://onancock.com
X-WR-CALDESC:Events for Onancock
REFRESH-INTERVAL;VALUE=DURATION:PT1H
X-Robots-Tag:noindex
X-PUBLISHED-TTL:PT1H
BEGIN:VTIMEZONE
TZID:America/New_York
BEGIN:DAYLIGHT
TZOFFSETFROM:-0500
TZOFFSETTO:-0400
TZNAME:EDT
DTSTART:20180311T070000
END:DAYLIGHT
BEGIN:STANDARD
TZOFFSETFROM:-0400
TZOFFSETTO:-0500
TZNAME:EST
DTSTART:20181104T060000
END:STANDARD
BEGIN:DAYLIGHT
TZOFFSETFROM:-0500
TZOFFSETTO:-0400
TZNAME:EDT
DTSTART:20190310T070000
END:DAYLIGHT
BEGIN:STANDARD
TZOFFSETFROM:-0400
TZOFFSETTO:-0500
TZNAME:EST
DTSTART:20191103T060000
END:STANDARD
BEGIN:DAYLIGHT
TZOFFSETFROM:-0500
TZOFFSETTO:-0400
TZNAME:EDT
DTSTART:20200308T070000
END:DAYLIGHT
BEGIN:STANDARD
TZOFFSETFROM:-0400
TZOFFSETTO:-0500
TZNAME:EST
DTSTART:20201101T060000
END:STANDARD
BEGIN:DAYLIGHT
TZOFFSETFROM:-0500
TZOFFSETTO:-0400
TZNAME:EDT
DTSTART:20210314T070000
END:DAYLIGHT
BEGIN:STANDARD
TZOFFSETFROM:-0400
TZOFFSETTO:-0500
TZNAME:EST
DTSTART:20211107T060000
END:STANDARD
END:VTIMEZONE
BEGIN:VEVENT
DTSTART;TZID=America/New_York:20200116T100000
DTEND;TZID=America/New_York:20200116T100000
DTSTAMP:20260419T084943
CREATED:20251230T153841Z
LAST-MODIFIED:20251230T153841Z
UID:10003068-1579168800-1579168800@onancock.com
SUMMARY:Onancock Sewer Transmission Line Steering Committee Meeting
DESCRIPTION:Meeting Notice\nSewer Transmission Line Steering Committee Meeting\nJanuary 16\, 2020\nAt 10:00 a.m. \nThe Onancock Sewer Transmission Line Steering Committee will hold a meeting at 10:00 a.m. January 16\, 2020. The meeting will be held in the Town Hall Council Chambers at 15 North Street\, Onancock\, VA 23417.
URL:https://onancock.com/calendar/onancock-sewer-transmission-line-steering-committee-meeting/
CATEGORIES:Boards & Commissions
END:VEVENT
BEGIN:VEVENT
DTSTART;TZID=America/New_York:20200114T173000
DTEND;TZID=America/New_York:20200114T173000
DTSTAMP:20260419T084943
CREATED:20251230T153841Z
LAST-MODIFIED:20251230T153841Z
UID:10002595-1579023000-1579023000@onancock.com
SUMMARY:Waterfront Committee Meeting-CANCELLED
DESCRIPTION:
URL:https://onancock.com/calendar/waterfront-committee-meeting-cancelled-2/
CATEGORIES:Waterfront Committee
END:VEVENT
BEGIN:VEVENT
DTSTART;TZID=America/New_York:20200108T180000
DTEND;TZID=America/New_York:20200108T180000
DTSTAMP:20260419T084943
CREATED:20251230T153841Z
LAST-MODIFIED:20251230T153841Z
UID:10002528-1578506400-1578506400@onancock.com
SUMMARY:Tree Board Meeting-5
DESCRIPTION:
URL:https://onancock.com/calendar/tree-board-meeting-5/
CATEGORIES:Tree Board
END:VEVENT
BEGIN:VEVENT
DTSTART;TZID=America/New_York:20200108T180000
DTEND;TZID=America/New_York:20200108T180000
DTSTAMP:20260419T084943
CREATED:20251230T153841Z
LAST-MODIFIED:20251230T153841Z
UID:10002524-1578506400-1578506400@onancock.com
SUMMARY:Tree Board Meeting
DESCRIPTION:
URL:https://onancock.com/calendar/tree-board-meeting-1/
CATEGORIES:Tree Board
END:VEVENT
BEGIN:VEVENT
DTSTART;TZID=America/New_York:20191219T100000
DTEND;TZID=America/New_York:20191219T100000
DTSTAMP:20260419T084943
CREATED:20251230T153842Z
LAST-MODIFIED:20251230T153842Z
UID:10003103-1576749600-1576749600@onancock.com
SUMMARY:Sewer Transmission Line Steering Committee Meeting
DESCRIPTION:
URL:https://onancock.com/calendar/sewer-transmission-line-steering-committee-meeting-2/
CATEGORIES:Boards & Commissions
END:VEVENT
BEGIN:VEVENT
DTSTART;TZID=America/New_York:20191217T173000
DTEND;TZID=America/New_York:20191217T173000
DTSTAMP:20260419T084943
CREATED:20251230T153840Z
LAST-MODIFIED:20251230T153840Z
UID:10002599-1576603800-1576603800@onancock.com
SUMMARY:Planning Commission Meeting - Cancelled
DESCRIPTION:
URL:https://onancock.com/calendar/planning-commission-meeting-cancelled-3/
CATEGORIES:Planning Commission
END:VEVENT
BEGIN:VEVENT
DTSTART;TZID=America/New_York:20191216T190000
DTEND;TZID=America/New_York:20191216T190000
DTSTAMP:20260419T084943
CREATED:20251230T153840Z
LAST-MODIFIED:20251230T153840Z
UID:10002381-1576522800-1576522800@onancock.com
SUMMARY:Town Council Meeting-40
DESCRIPTION:
URL:https://onancock.com/calendar/town-council-meeting-40/
CATEGORIES:Town Council
END:VEVENT
BEGIN:VEVENT
DTSTART;TZID=America/New_York:20191210T173000
DTEND;TZID=America/New_York:20191210T173000
DTSTAMP:20260419T084943
CREATED:20251230T153840Z
LAST-MODIFIED:20251230T153840Z
UID:10002483-1575999000-1575999000@onancock.com
SUMMARY:Waterfront Committee Meeting
DESCRIPTION:
URL:https://onancock.com/calendar/waterfront-committee-meeting-11/
CATEGORIES:Waterfront Committee
END:VEVENT
BEGIN:VEVENT
DTSTART;TZID=America/New_York:20191125T190000
DTEND;TZID=America/New_York:20191125T190000
DTSTAMP:20260419T084943
CREATED:20251230T153839Z
LAST-MODIFIED:20251230T153839Z
UID:10002380-1574708400-1574708400@onancock.com
SUMMARY:Town Council Meeting-39
DESCRIPTION:
URL:https://onancock.com/calendar/town-council-meeting-39/
CATEGORIES:Town Council
END:VEVENT
BEGIN:VEVENT
DTSTART;TZID=America/New_York:20191121T100000
DTEND;TZID=America/New_York:20191121T100000
DTSTAMP:20260419T084943
CREATED:20251230T153839Z
LAST-MODIFIED:20251230T153839Z
UID:10003122-1574330400-1574330400@onancock.com
SUMMARY:Sewer Transmission Line Steering Committee Meeting
DESCRIPTION:
URL:https://onancock.com/calendar/sewer-transmission-line-steering-committee-meeting-1/
CATEGORIES:Boards & Commissions
END:VEVENT
BEGIN:VEVENT
DTSTART;TZID=America/New_York:20191121T100000
DTEND;TZID=America/New_York:20191121T100000
DTSTAMP:20260419T084943
CREATED:20251230T153839Z
LAST-MODIFIED:20251230T153839Z
UID:10003124-1574330400-1574330400@onancock.com
SUMMARY:Sewer Transmission Line Steering Committee Meeting
DESCRIPTION:
URL:https://onancock.com/calendar/sewer-transmission-line-steering-committee-meeting-0/
CATEGORIES:Boards & Commissions
END:VEVENT
BEGIN:VEVENT
DTSTART;TZID=America/New_York:20191119T173000
DTEND;TZID=America/New_York:20191119T173000
DTSTAMP:20260419T084943
CREATED:20251230T153839Z
LAST-MODIFIED:20251230T153839Z
UID:10002600-1574184600-1574184600@onancock.com
SUMMARY:Planning Commission Meeting - Cancelled
DESCRIPTION:
URL:https://onancock.com/calendar/planning-commission-meeting-cancelled-2/
CATEGORIES:Planning Commission
END:VEVENT
BEGIN:VEVENT
DTSTART;TZID=America/New_York:20191113T133000
DTEND;TZID=America/New_York:20191113T133000
DTSTAMP:20260419T084943
CREATED:20251230T153839Z
LAST-MODIFIED:20251230T153839Z
UID:10003016-1573651800-1573651800@onancock.com
SUMMARY:Onancock Personnel Committee Meeting
DESCRIPTION:Meeting Notice \nPersonnel Committee Meeting \nNovember 13\, 2019 \nAt 1:30 p.m. \nThe Onancock Personnel Committee will hold a meeting at 1:30 p.m. November 13\, 2019. The meeting will be held in the Town Hall Council Chambers at 15 North Street\, Onancock\, VA 23417.
URL:https://onancock.com/calendar/onancock-personnel-committee-meeting/
CATEGORIES:Personnel Committee
END:VEVENT
BEGIN:VEVENT
DTSTART;TZID=America/New_York:20191112T173000
DTEND;TZID=America/New_York:20191112T173000
DTSTAMP:20260419T084943
CREATED:20251230T153839Z
LAST-MODIFIED:20251230T153839Z
UID:10002482-1573579800-1573579800@onancock.com
SUMMARY:Waterfront Committee Meeting
DESCRIPTION:
URL:https://onancock.com/calendar/waterfront-committee-meeting-10/
CATEGORIES:Waterfront Committee
END:VEVENT
BEGIN:VEVENT
DTSTART;TZID=America/New_York:20191028T190000
DTEND;TZID=America/New_York:20191028T190000
DTSTAMP:20260419T084943
CREATED:20251230T153838Z
LAST-MODIFIED:20251230T153838Z
UID:10002379-1572289200-1572289200@onancock.com
SUMMARY:Town Council Meeting-38
DESCRIPTION:Meeting Notice \nTown Council Meeting \nOctober 28\, 2019 \nAt 7:00 p.m. \nThe Onancock Town Council will hold a meeting at 7:00 p.m. October 28\, 2019. The meeting will be held in the Town Hall Council Chambers at 15 North Street\, Onancock\, VA 23417.
URL:https://onancock.com/calendar/town-council-meeting-38/
CATEGORIES:Town Council
END:VEVENT
BEGIN:VEVENT
DTSTART;TZID=America/New_York:20191017T103000
DTEND;TZID=America/New_York:20191017T103000
DTSTAMP:20260419T084943
CREATED:20251230T153838Z
LAST-MODIFIED:20251230T153838Z
UID:10003132-1571308200-1571308200@onancock.com
SUMMARY:Sewer Transmission Line Steering Committee
DESCRIPTION:
URL:https://onancock.com/calendar/sewer-transmission-line-steering-committee-0/
CATEGORIES:Boards & Commissions
END:VEVENT
BEGIN:VEVENT
DTSTART;TZID=America/New_York:20191017T100000
DTEND;TZID=America/New_York:20191017T100000
DTSTAMP:20260419T084943
CREATED:20251230T153838Z
LAST-MODIFIED:20251230T153838Z
UID:10003130-1571306400-1571306400@onancock.com
SUMMARY:Sewer Transmission Line Steering Committee
DESCRIPTION:The continuing saga of the Crawley family and the servants who work for them in the English countryside in the early 20th century. Rated PG for thematic elements\, some suggestive material and language. \nClick HERE for additional details.
URL:https://onancock.com/calendar/sewer-transmission-line-steering-committee-1/
CATEGORIES:Boards & Commissions
END:VEVENT
BEGIN:VEVENT
DTSTART;TZID=America/New_York:20191015T173000
DTEND;TZID=America/New_York:20191015T173000
DTSTAMP:20260419T084943
CREATED:20251230T153838Z
LAST-MODIFIED:20251230T153838Z
UID:10002431-1571160600-1571160600@onancock.com
SUMMARY:Planning Commission Meeting
DESCRIPTION:
URL:https://onancock.com/calendar/planning-commission-meeting-5/
CATEGORIES:Planning Commission
END:VEVENT
BEGIN:VEVENT
DTSTART;TZID=America/New_York:20191009T180000
DTEND;TZID=America/New_York:20191009T180000
DTSTAMP:20260419T084943
CREATED:20251230T153837Z
LAST-MODIFIED:20251230T153837Z
UID:10002529-1570644000-1570644000@onancock.com
SUMMARY:Tree Board Meeting
DESCRIPTION:
URL:https://onancock.com/calendar/tree-board-meeting-6/
CATEGORIES:Tree Board
END:VEVENT
BEGIN:VEVENT
DTSTART;TZID=America/New_York:20191008T173000
DTEND;TZID=America/New_York:20191008T173000
DTSTAMP:20260419T084943
CREATED:20251230T153837Z
LAST-MODIFIED:20251230T153837Z
UID:10002481-1570555800-1570555800@onancock.com
SUMMARY:Waterfront Committee Meeting
DESCRIPTION:
URL:https://onancock.com/calendar/waterfront-committee-meeting-9/
CATEGORIES:Waterfront Committee
END:VEVENT
BEGIN:VEVENT
DTSTART;TZID=America/New_York:20191003T100000
DTEND;TZID=America/New_York:20191003T100000
DTSTAMP:20260419T084943
CREATED:20251230T153837Z
LAST-MODIFIED:20251230T153837Z
UID:10003135-1570096800-1570096800@onancock.com
SUMMARY:Sewer Transmission Line Steering Committee Meeting
DESCRIPTION:Meeting Notice \nSewer Transmission Line Steering Committee Meeting \nOctober 3\, 2019 \nAt 10:00 a.m. \nThe Onancock Sewer Transmission Line Steering Committee will hold a meeting at 10:00 a.m. October 3\, 2019. The meeting will be held in the Town Hall Council Chambers at 15 North Street\, Onancock\, VA 23417.
URL:https://onancock.com/calendar/sewer-transmission-line-steering-committee-meeting/
CATEGORIES:Boards & Commissions
END:VEVENT
BEGIN:VEVENT
DTSTART;TZID=America/New_York:20190926T100000
DTEND;TZID=America/New_York:20190926T100000
DTSTAMP:20260419T084943
CREATED:20251230T153837Z
LAST-MODIFIED:20251230T153837Z
UID:10003146-1569492000-1569492000@onancock.com
SUMMARY:Onancock Sewer Transmission Line Steering Committee
DESCRIPTION:The Onancock Sewer Transmission Line Steering Committee will be holding a meeting Thursday\, September 26\, 2019 at 10:00 a.m. in the Town Council Chambers located at 15 North Street\, Onancock\, VA 23417.
URL:https://onancock.com/calendar/onancock-sewer-transmission-line-steering-committee/
CATEGORIES:Boards & Commissions
END:VEVENT
BEGIN:VEVENT
DTSTART;TZID=America/New_York:20190923T190000
DTEND;TZID=America/New_York:20190923T190000
DTSTAMP:20260419T084943
CREATED:20251230T153837Z
LAST-MODIFIED:20251230T153837Z
UID:10002378-1569265200-1569265200@onancock.com
SUMMARY:Town Council Meeting-37
DESCRIPTION:Meeting Notice \nTown Council Meeting \nSeptember 23\, 2019 \nAt 7:00 p.m. \nThe Onancock Town Council will hold a meeting at 7:00 p.m. September 23\, 2019. The meeting will be held in the Town Hall Council Chambers at 15 North Street\, Onancock\, VA 23417.
URL:https://onancock.com/calendar/town-council-meeting-37/
CATEGORIES:Town Council
END:VEVENT
BEGIN:VEVENT
DTSTART;TZID=America/New_York:20190917T173000
DTEND;TZID=America/New_York:20190917T173000
DTSTAMP:20260419T084943
CREATED:20251230T153836Z
LAST-MODIFIED:20251230T153836Z
UID:10002436-1568741400-1568741400@onancock.com
SUMMARY:Planning Commission Meeting-10
DESCRIPTION:
URL:https://onancock.com/calendar/planning-commission-meeting-10/
CATEGORIES:Planning Commission
END:VEVENT
BEGIN:VEVENT
DTSTART;TZID=America/New_York:20190917T173000
DTEND;TZID=America/New_York:20190917T173000
DTSTAMP:20260419T084943
CREATED:20251230T153836Z
LAST-MODIFIED:20251230T153836Z
UID:10002437-1568741400-1568741400@onancock.com
SUMMARY:Planning Commission Meeting-10
DESCRIPTION:
URL:https://onancock.com/calendar/__trashed-3__trashed/
CATEGORIES:Planning Commission
END:VEVENT
BEGIN:VEVENT
DTSTART;TZID=America/New_York:20190911T180000
DTEND;TZID=America/New_York:20190911T180000
DTSTAMP:20260419T084943
CREATED:20251230T153836Z
LAST-MODIFIED:20251230T153836Z
UID:10002593-1568224800-1568224800@onancock.com
SUMMARY:Tree Board Meeting-CANCELLED
DESCRIPTION:
URL:https://onancock.com/calendar/tree-board-meeting-cancelled-0/
CATEGORIES:Tree Board
END:VEVENT
BEGIN:VEVENT
DTSTART;TZID=America/New_York:20190910T173000
DTEND;TZID=America/New_York:20190910T173000
DTSTAMP:20260419T084943
CREATED:20251230T153836Z
LAST-MODIFIED:20251230T153836Z
UID:10002592-1568136600-1568136600@onancock.com
SUMMARY:Waterfront Committee Meeting-CANCELLED
DESCRIPTION:
URL:https://onancock.com/calendar/waterfront-committee-meeting-cancelled-1/
CATEGORIES:Waterfront Committee
END:VEVENT
BEGIN:VEVENT
DTSTART;TZID=America/New_York:20190903T190000
DTEND;TZID=America/New_York:20190903T190000
DTSTAMP:20260419T084943
CREATED:20251230T153836Z
LAST-MODIFIED:20251230T153836Z
UID:10003177-1567537200-1567537200@onancock.com
SUMMARY:Town Council & Sewer Transmission Line Steering Committee Joint Work Session
DESCRIPTION:Please be advised that the Town of Onancock Town Council and the Onancock Sewer Transmission Line Steering Committee will be holding a Joint Work Session on Tuesday\, September 3rd at 7:00 p.m. in the Town Council Chambers located at 15 North Street\, Onancock\, VA 23417.
URL:https://onancock.com/calendar/town-council-sewer-transmission-line-steering-committee-joint-work-session/
CATEGORIES:Town Council
END:VEVENT
BEGIN:VEVENT
DTSTART;TZID=America/New_York:20190826T190000
DTEND;TZID=America/New_York:20190826T190000
DTSTAMP:20260419T084943
CREATED:20251230T153835Z
LAST-MODIFIED:20251230T153835Z
UID:10002377-1566846000-1566846000@onancock.com
SUMMARY:Town Council Meeting-36
DESCRIPTION:Meeting Notice \nTown Council Meeting \nAugust 26\, 2019 \nAt 7:00 p.m. \nThe Onancock Town Council will hold a meeting at 7:00 p.m. August 26\, 2019. The meeting will be held in the Town Hall Council Chambers at 15 North Street\, Onancock\, VA 23417.
URL:https://onancock.com/calendar/town-council-meeting-36/
CATEGORIES:Town Council
END:VEVENT
BEGIN:VEVENT
DTSTART;TZID=America/New_York:20190820T173000
DTEND;TZID=America/New_York:20190820T173000
DTSTAMP:20260419T084943
CREATED:20251230T153835Z
LAST-MODIFIED:20251230T153835Z
UID:10002594-1566322200-1566322200@onancock.com
SUMMARY:Planning Commission Meeting - No Quorum
DESCRIPTION:
URL:https://onancock.com/calendar/planning-commission-meeting-no-quorum/
CATEGORIES:Planning Commission
END:VEVENT
END:VCALENDAR