BEGIN:VCALENDAR
VERSION:2.0
PRODID:-//Onancock - ECPv6.15.20//NONSGML v1.0//EN
CALSCALE:GREGORIAN
METHOD:PUBLISH
X-ORIGINAL-URL:https://onancock.com
X-WR-CALDESC:Events for Onancock
REFRESH-INTERVAL;VALUE=DURATION:PT1H
X-Robots-Tag:noindex
X-PUBLISHED-TTL:PT1H
BEGIN:VTIMEZONE
TZID:America/New_York
BEGIN:DAYLIGHT
TZOFFSETFROM:-0500
TZOFFSETTO:-0400
TZNAME:EDT
DTSTART:20200308T070000
END:DAYLIGHT
BEGIN:STANDARD
TZOFFSETFROM:-0400
TZOFFSETTO:-0500
TZNAME:EST
DTSTART:20201101T060000
END:STANDARD
BEGIN:DAYLIGHT
TZOFFSETFROM:-0500
TZOFFSETTO:-0400
TZNAME:EDT
DTSTART:20210314T070000
END:DAYLIGHT
BEGIN:STANDARD
TZOFFSETFROM:-0400
TZOFFSETTO:-0500
TZNAME:EST
DTSTART:20211107T060000
END:STANDARD
BEGIN:DAYLIGHT
TZOFFSETFROM:-0500
TZOFFSETTO:-0400
TZNAME:EDT
DTSTART:20220313T070000
END:DAYLIGHT
BEGIN:STANDARD
TZOFFSETFROM:-0400
TZOFFSETTO:-0500
TZNAME:EST
DTSTART:20221106T060000
END:STANDARD
END:VTIMEZONE
BEGIN:VEVENT
DTSTART;TZID=America/New_York:20210216T173000
DTEND;TZID=America/New_York:20210216T173000
DTSTAMP:20260419T231940
CREATED:20251230T153905Z
LAST-MODIFIED:20251230T153905Z
UID:10002439-1613496600-1613496600@onancock.com
SUMMARY:Planning Commission Meeting
DESCRIPTION:To join the meeting please follow the link below. \nTopic: Onancock – Planning Commission\nTime: Feb 16\, 2021 05:30 PM Eastern Time (US and Canada)\nJoin Zoom Meeting\nhttps://us02web.zoom.us/j/81369730983?pwd=RHR5eXUrN05RZVRGaW13dE5XVk5vQT09\nMeeting ID: 813 6973 0983\nPasscode: 121386\nOne tap mobile\n+13017158592\,\,81369730983#\,\,\,\,*121386# US (Washington DC)\n+13126266799\,\,81369730983#\,\,\,\,*121386# US (Chicago) \nDial by your location\n+1 301 715 8592 US (Washington DC)\n+1 312 626 6799 US (Chicago)\n+1 646 558 8656 US (New York)\n+1 253 215 8782 US (Tacoma)\n+1 346 248 7799 US (Houston)\n+1 669 900 9128 US (San Jose) \nMeeting ID: 813 6973 0983\nPasscode: 121386\nFind your local number: https://us02web.zoom.us/u/keDGx3ZEpK
URL:https://onancock.com/calendar/planning-commission-meeting-12/
CATEGORIES:Planning Commission
END:VEVENT
END:VCALENDAR